BEGIN:VCALENDAR
PRODID://WordPress//Event-Post-V5.9.2//EN
VERSION:2.0
BEGIN:VTIMEZONE
TZID:Asia/Jakarta
BEGIN:DAYLIGHT
TZOFFSETFROM:+0100
TZOFFSETTO:+0700
DTSTART:19700329T020000
RRULE:FREQ=YEARLY;BYDAY=-1SU;BYMONTH=3
END:DAYLIGHT
BEGIN:STANDARD
TZOFFSETFROM:+0700
TZOFFSETTO:+0100
TZNAME:CET
DTSTART:19701025T030000
RRULE:FREQ=YEARLY;BYDAY=-1SU;BYMONTH=10
END:STANDARD
END:VTIMEZONE
BEGIN:VEVENT
SUMMARY:Pemutaran dan Diskusi Film: The Burning Season
UID:https://www.paramadina-pusad.or.id/Agenda/pemutaran-dan-diskusi-film-the-burning-season/
LOCATION:Pisa Cafe
DTSTAMP:20151127T160000
DTSTART;TZID=Asia/Jakarta:20151127T160000
DTEND;TZID=Asia/Jakarta:20151127T203000
DESCRIPTION:Berdasarkan kisah nyata, film ini menggambarkan perjuangan Francisco
“Chico” Mendes (diperankan Raul Julia), aktivis lingkungan dan penyadap
karet di Brazil, memimpin aksi protes melawan pemerintah dan pengusaha yang
ingin menebangi hutan Amazon antara 1983 hingga 1988. Film ini berakhir
dengan pembunuhan Chico pada 1998.

Film ini wajib ditonton mereka yang peduli pada isu lingkungan. Banyak
penghargaan internasional untuk film ini, antara lain: dinobatkan sebagai
aktor terbaik (Emmy Award 1995) dan untuk film dan aktor terbaik (Golden
Globe 1995).

Narasumber diskusi film kali ini adalah Jacky Manuputty, pendeta dan
aktivis lingkungan dari Ambon, Maluku. Selain membahas film, akan diulas
bagaimana partisipasi gerakan penyelamatan Kepulauan Aru, Maluku, dari
eksploitasi perusahaan pekebunan tebu.

Pemutaran dan Diskusi Film ini merupakan program bulanan Forum Muda
Paramadina, Kafe Pisa Mahakam dan LSI Community yang memutar film-film
peraih penghargaan internasional dan mengundang narasumber berkualitas
sebagai pembahas. Selain menikmati aspek sinematografi, program ini
diharapkan menjadi sarana untuk mempelajari gejala-gejala sosial, ekonomi,
politik, budaya, dan keagamaan di seluruh dunia. Program ini gratis dan
terbuka untuk umum (dengan reservasi).

RSVP:  Ayu Mellisa [ayu@paramadina-pusad.or.id]/[nobarpisa@gmail.com]
END:VEVENT
END:VCALENDAR