BEGIN:VCALENDAR
PRODID://WordPress//Event-Post-V5.9.2//EN
VERSION:2.0
BEGIN:VTIMEZONE
TZID:Asia/Jakarta
BEGIN:DAYLIGHT
TZOFFSETFROM:+0100
TZOFFSETTO:+0700
DTSTART:19700329T020000
RRULE:FREQ=YEARLY;BYDAY=-1SU;BYMONTH=3
END:DAYLIGHT
BEGIN:STANDARD
TZOFFSETFROM:+0700
TZOFFSETTO:+0100
TZNAME:CET
DTSTART:19701025T030000
RRULE:FREQ=YEARLY;BYDAY=-1SU;BYMONTH=10
END:STANDARD
END:VTIMEZONE
BEGIN:VEVENT
SUMMARY:[ICIR] Mengawal RUU SISDIKNAS, Pendidikan Inklusif bagi Penghayat Kepercayaan dan Masyarakat Adat
UID:https://www.paramadina-pusad.or.id/Agenda/icir-mengawal-ruu-sisdiknas-pendidikan-inklusif-bagi-penghayat-kepercayaan-dan-masyarakat-adat/
LOCATION:
DTSTAMP:20220831
DTSTART;TZID=Asia/Jakarta:20220831
DTEND;TZID=Asia/Jakarta:20220831
DESCRIPTION:*FORUM KAMISAN DARING 2022 #Edisi31*

*Mengawal RUU SISDIKNAS, Pendidikan Inklusif bagi Penghayat Kepercayaan dan
Masyarakat Adat*

Narasumber :
● Andri Hernandi - Presidium MLKI Pusat
● Prof. Dr. H. Muhammad Adlin Sila, M.A., Ph.D - Staf Ahli Menteri
Kemendikbudristek Hubungan Kelembagaan dan Masyarakat

Penanggap :
● Hastangka - Pusat Riset Pendidikan BRIN
● Samsul Maarif - CRCS UGM

*Kamis, 31 Agustus 2022*
Pukul 19.00 - 21.00 WIB

*Zoom Meeting* :
Link Zoom : https://s.id/fkd2022
atau
Meeting ID : 994 1367 6559
Passcode : fkd2022

Live di Youtube Komnas Perempuan
END:VEVENT
END:VCALENDAR