BEGIN:VCALENDAR
PRODID://WordPress//Event-Post-V5.9.2//EN
VERSION:2.0
BEGIN:VTIMEZONE
TZID:Asia/Jakarta
BEGIN:DAYLIGHT
TZOFFSETFROM:+0100
TZOFFSETTO:+0700
DTSTART:19700329T020000
RRULE:FREQ=YEARLY;BYDAY=-1SU;BYMONTH=3
END:DAYLIGHT
BEGIN:STANDARD
TZOFFSETFROM:+0700
TZOFFSETTO:+0100
TZNAME:CET
DTSTART:19701025T030000
RRULE:FREQ=YEARLY;BYDAY=-1SU;BYMONTH=10
END:STANDARD
END:VTIMEZONE
BEGIN:VEVENT
SUMMARY:Peluncuran dan Diskusi Buku Kebangkitan Kembali Otoritarianisme di Indonesia: Dasawarsa Kepemimpinan Jokowi
UID:https://www.paramadina-pusad.or.id/Agenda/peluncuran-dan-diskusi-buku-kebangkitan-kembali-otoritarianisme-di-indonesia-dasawarsa-kepemimpinan-jokowi/
LOCATION:
DTSTAMP:20260424T153000
DTSTART;TZID=Asia/Jakarta:20260424T153000
DTEND;TZID=Asia/Jakarta:20260424T173000
DESCRIPTION:Buku ini mengulas secara kritis perjalanan politik dan ekonomi Indonesia
selama 2014–2024. Disusun dari kontribusi akademisi dalam Indonesia
Update di ANU, buku ini menyoroti bagaimana ambisi pembangunan dan
stabilitas politik justru beriringan dengan kemunduran demokrasi. Diskusi
ini juga akan melihat bagaimana kecenderungan tersebut berlanjut di era
pemerintahan saat ini.
END:VEVENT
END:VCALENDAR